BEGIN:VCALENDAR
PRODID:-//eluceo/ical//2.0/EN
VERSION:2.0
CALSCALE:GREGORIAN
BEGIN:VEVENT
UID:e04b59a2193c90392a8a1610abd9059c
DTSTAMP:20260420T132553Z
SUMMARY:Referat: Alena Ehrenbold\, Schweizermeisterin im Surfen 2010
DESCRIPTION:
URL:https://rotary-luzern-heidegg.ch/de/agenda/show/38448
DTSTART;TZID=Europe/Zurich:20140324T120000
DTEND;TZID=Europe/Zurich:20140324T133000
LOCATION:Restaurant Bären\, Rothenburg
CATEGORIES:Rotary
END:VEVENT
BEGIN:VTIMEZONE
TZID:Europe/Zurich
BEGIN:STANDARD
DTSTART:20140324T120000
TZNAME:CET
TZOFFSETTO:+0100
TZOFFSETFROM:+0100
END:STANDARD
END:VTIMEZONE
END:VCALENDAR
