BEGIN:VCALENDAR
PRODID:-//eluceo/ical//2.0/EN
VERSION:2.0
CALSCALE:GREGORIAN
BEGIN:VEVENT
UID:0d9fdb8d32a08a89e586655df4d325db
DTSTAMP:20260420T131258Z
SUMMARY:Frauenzentrale Luzern
DESCRIPTION:Relatore/i: N. N. 
URL:https://rotary-luzern-heidegg.ch/it/agenda/show/25143
DTSTART;TZID=Europe/Zurich:20120924T120000
DTEND;TZID=Europe/Zurich:20120924T120000
LOCATION:Restaurant Herlisberg
CATEGORIES:Rotary
END:VEVENT
BEGIN:VTIMEZONE
TZID:Europe/Zurich
BEGIN:DAYLIGHT
DTSTART:20120924T120000
TZNAME:CEST
TZOFFSETTO:+0200
TZOFFSETFROM:+0200
END:DAYLIGHT
END:VTIMEZONE
END:VCALENDAR
