BEGIN:VCALENDAR
PRODID:-//eluceo/ical//2.0/EN
VERSION:2.0
CALSCALE:GREGORIAN
BEGIN:VEVENT
UID:e085e460e26124fa67e4219a123cf228
DTSTAMP:20260422T105141Z
SUMMARY:GV
DESCRIPTION:
URL:https://rotary-luzern-heidegg.ch/it/agenda/show/29073
DTSTART;TZID=Europe/Zurich:20130617T120000
DTEND;TZID=Europe/Zurich:20130617T120000
LOCATION:Gasthaus Bären
CATEGORIES:Rotary
END:VEVENT
BEGIN:VTIMEZONE
TZID:Europe/Zurich
BEGIN:DAYLIGHT
DTSTART:20130617T120000
TZNAME:CEST
TZOFFSETTO:+0200
TZOFFSETFROM:+0200
END:DAYLIGHT
END:VTIMEZONE
END:VCALENDAR
