BEGIN:VCALENDAR
PRODID:-//eluceo/ical//2.0/EN
VERSION:2.0
CALSCALE:GREGORIAN
BEGIN:VEVENT
UID:1fd1873cdfb3b833d798b11e45e431f2
DTSTAMP:20260420T132656Z
SUMMARY:Plauderlunch mit RC Luzern-Seetal
DESCRIPTION:
URL:https://rotary-luzern-heidegg.ch/it/agenda/show/33505
DTSTART;TZID=Europe/Zurich:20130715T120000
DTEND;TZID=Europe/Zurich:20130715T120000
LOCATION:Restaurant Herlisberg
CATEGORIES:Rotary
END:VEVENT
BEGIN:VTIMEZONE
TZID:Europe/Zurich
BEGIN:DAYLIGHT
DTSTART:20130715T120000
TZNAME:CEST
TZOFFSETTO:+0200
TZOFFSETFROM:+0200
END:DAYLIGHT
END:VTIMEZONE
END:VCALENDAR
