BEGIN:VCALENDAR
PRODID:-//eluceo/ical//2.0/EN
VERSION:2.0
CALSCALE:GREGORIAN
BEGIN:VEVENT
UID:1775e5566cc334beab5de1bb56fbe4b0
DTSTAMP:20260424T131253Z
SUMMARY:Referat - Heini Portmann: CVT Myanmar - ein Schweizer Projekt macht
  Schule
DESCRIPTION:
URL:https://rotary-luzern-heidegg.ch/it/agenda/show/53699
DTSTART;TZID=Europe/Zurich:20151109T120000
DTEND;TZID=Europe/Zurich:20151109T120000
LOCATION:Bären Rothenburg
CATEGORIES:Rotary
END:VEVENT
BEGIN:VTIMEZONE
TZID:Europe/Zurich
BEGIN:STANDARD
DTSTART:20151109T120000
TZNAME:CET
TZOFFSETTO:+0100
TZOFFSETFROM:+0100
END:STANDARD
END:VTIMEZONE
END:VCALENDAR
