BEGIN:VCALENDAR
PRODID:-//eluceo/ical//2.0/EN
VERSION:2.0
CALSCALE:GREGORIAN
BEGIN:VEVENT
UID:e8e3aa49e66e6db8f4ad93fcbbf56f18
DTSTAMP:20260422T131453Z
SUMMARY:Samichlaus
DESCRIPTION:
URL:https://rotary-luzern-heidegg.ch/it/agenda/show/53704
DTSTART;TZID=Europe/Zurich:20151207T180000
DTEND;TZID=Europe/Zurich:20151207T180000
LOCATION:Ort: Überraschung
CATEGORIES:Rotary
END:VEVENT
BEGIN:VTIMEZONE
TZID:Europe/Zurich
BEGIN:STANDARD
DTSTART:20151207T180000
TZNAME:CET
TZOFFSETTO:+0100
TZOFFSETFROM:+0100
END:STANDARD
END:VTIMEZONE
END:VCALENDAR
